BEGIN:VCALENDAR
VERSION:2.0
PRODID:-//SZKOŁA NOWEJ EWANGELIZACJI DIECEZJI SIEDLECKIEJ - ECPv6.15.20//NONSGML v1.0//EN
CALSCALE:GREGORIAN
METHOD:PUBLISH
X-ORIGINAL-URL:https://sne.siedlce.pl
X-WR-CALDESC:Wydarzenia dla SZKOŁA NOWEJ EWANGELIZACJI DIECEZJI SIEDLECKIEJ
REFRESH-INTERVAL;VALUE=DURATION:PT1H
X-Robots-Tag:noindex
X-PUBLISHED-TTL:PT1H
BEGIN:VTIMEZONE
TZID:Europe/Warsaw
BEGIN:DAYLIGHT
TZOFFSETFROM:+0100
TZOFFSETTO:+0200
TZNAME:CEST
DTSTART:20250330T010000
END:DAYLIGHT
BEGIN:STANDARD
TZOFFSETFROM:+0200
TZOFFSETTO:+0100
TZNAME:CET
DTSTART:20251026T010000
END:STANDARD
BEGIN:DAYLIGHT
TZOFFSETFROM:+0100
TZOFFSETTO:+0200
TZNAME:CEST
DTSTART:20260329T010000
END:DAYLIGHT
BEGIN:STANDARD
TZOFFSETFROM:+0200
TZOFFSETTO:+0100
TZNAME:CET
DTSTART:20261025T010000
END:STANDARD
BEGIN:DAYLIGHT
TZOFFSETFROM:+0100
TZOFFSETTO:+0200
TZNAME:CEST
DTSTART:20270328T010000
END:DAYLIGHT
BEGIN:STANDARD
TZOFFSETFROM:+0200
TZOFFSETTO:+0100
TZNAME:CET
DTSTART:20271031T010000
END:STANDARD
END:VTIMEZONE
BEGIN:VEVENT
DTSTART;TZID=Europe/Warsaw:20260221T080000
DTEND;TZID=Europe/Warsaw:20260225T170000
DTSTAMP:20260421T163523
CREATED:20260215T183837Z
LAST-MODIFIED:20260315T184023Z
UID:9035-1771660800-1772038800@sne.siedlce.pl
SUMMARY:RENOWACJA MISJI (BYDGOSZCZ)
DESCRIPTION:
URL:https://sne.siedlce.pl/kalendarz/renowacje-misji-bydgoszcz/
CATEGORIES:Misja
ATTACH;FMTTYPE=image/jpeg:https://sne.siedlce.pl/wp-content/uploads/2026/03/admin-ajax.jpg
END:VEVENT
BEGIN:VEVENT
DTSTART;TZID=Europe/Warsaw:20260312T080000
DTEND;TZID=Europe/Warsaw:20260314T170000
DTSTAMP:20260421T163523
CREATED:20260315T184255Z
LAST-MODIFIED:20260315T184255Z
UID:9039-1773302400-1773507600@sne.siedlce.pl
SUMMARY:RENOWACJA MISJI (LEWICZYN)
DESCRIPTION:
URL:https://sne.siedlce.pl/kalendarz/renowacja-misji-lewiczyn/
CATEGORIES:Misja
ATTACH;FMTTYPE=image/jpeg:https://sne.siedlce.pl/wp-content/uploads/2026/03/admin-ajax.jpg
END:VEVENT
BEGIN:VEVENT
DTSTART;TZID=Europe/Warsaw:20260927T080000
DTEND;TZID=Europe/Warsaw:20261004T190000
DTSTAMP:20260421T163523
CREATED:20260419T183232Z
LAST-MODIFIED:20260419T183232Z
UID:9109-1790496000-1791140400@sne.siedlce.pl
SUMMARY:Misje Ewangelizacyjne (Szewna)
DESCRIPTION:
URL:https://sne.siedlce.pl/kalendarz/misje-ewangelizacyjne-szewna/
LOCATION:Szewna
CATEGORIES:Misja
ATTACH;FMTTYPE=image/jpeg:https://sne.siedlce.pl/wp-content/uploads/2026/03/admin-ajax.jpg
ORGANIZER;CN="Szko%C5%82a Nowej Ewangelizacji":MAILTO:biuro@sne.siedlce.pl
END:VEVENT
BEGIN:VEVENT
DTSTART;TZID=Europe/Warsaw:20261018T080000
DTEND;TZID=Europe/Warsaw:20261025T170000
DTSTAMP:20260421T163523
CREATED:20260419T182233Z
LAST-MODIFIED:20260419T182759Z
UID:9106-1792310400-1792947600@sne.siedlce.pl
SUMMARY:Misje Ewangelizacyjne (Otwock Śródoborów)
DESCRIPTION:
URL:https://sne.siedlce.pl/kalendarz/misje-ewangelizacyjne-otwock-srodoborow/
LOCATION:Otwock Śródoborów
CATEGORIES:Misja
ATTACH;FMTTYPE=image/jpeg:https://sne.siedlce.pl/wp-content/uploads/2026/03/admin-ajax.jpg
ORGANIZER;CN="Szko%C5%82a Nowej Ewangelizacji":MAILTO:biuro@sne.siedlce.pl
END:VEVENT
END:VCALENDAR