BEGIN:VCALENDAR
VERSION:2.0
PRODID:-//SZKOŁA NOWEJ EWANGELIZACJI DIECEZJI SIEDLECKIEJ - ECPv6.15.20//NONSGML v1.0//EN
CALSCALE:GREGORIAN
METHOD:PUBLISH
X-WR-CALNAME:SZKOŁA NOWEJ EWANGELIZACJI DIECEZJI SIEDLECKIEJ
X-ORIGINAL-URL:https://sne.siedlce.pl
X-WR-CALDESC:Wydarzenia dla SZKOŁA NOWEJ EWANGELIZACJI DIECEZJI SIEDLECKIEJ
REFRESH-INTERVAL;VALUE=DURATION:PT1H
X-Robots-Tag:noindex
X-PUBLISHED-TTL:PT1H
BEGIN:VTIMEZONE
TZID:Europe/Warsaw
BEGIN:DAYLIGHT
TZOFFSETFROM:+0100
TZOFFSETTO:+0200
TZNAME:CEST
DTSTART:20250330T010000
END:DAYLIGHT
BEGIN:STANDARD
TZOFFSETFROM:+0200
TZOFFSETTO:+0100
TZNAME:CET
DTSTART:20251026T010000
END:STANDARD
BEGIN:DAYLIGHT
TZOFFSETFROM:+0100
TZOFFSETTO:+0200
TZNAME:CEST
DTSTART:20260329T010000
END:DAYLIGHT
BEGIN:STANDARD
TZOFFSETFROM:+0200
TZOFFSETTO:+0100
TZNAME:CET
DTSTART:20261025T010000
END:STANDARD
BEGIN:DAYLIGHT
TZOFFSETFROM:+0100
TZOFFSETTO:+0200
TZNAME:CEST
DTSTART:20270328T010000
END:DAYLIGHT
BEGIN:STANDARD
TZOFFSETFROM:+0200
TZOFFSETTO:+0100
TZNAME:CET
DTSTART:20271031T010000
END:STANDARD
END:VTIMEZONE
BEGIN:VEVENT
DTSTART;TZID=Europe/Warsaw:20260424T173000
DTEND;TZID=Europe/Warsaw:20260426T140000
DTSTAMP:20260420T153651
CREATED:20260119T173504Z
LAST-MODIFIED:20260119T173504Z
UID:8945-1777051800-1777212000@sne.siedlce.pl
SUMMARY:KURS NOWE ŻYCIE
DESCRIPTION:
URL:https://sne.siedlce.pl/kalendarz/kurs-nowe-zycie-34/
LOCATION:Bursa św. Stanisława Kostki\, ul. Świrskiego 56\, Siedlce\, Mazowieckie\, 08-110\, Polska
CATEGORIES:Kurs
ATTACH;FMTTYPE=image/jpeg:https://sne.siedlce.pl/wp-content/uploads/2017/02/bannerki_kurs-nowe-zycie.jpg
ORGANIZER;CN="Szko%C5%82a Nowej Ewangelizacji":MAILTO:biuro@sne.siedlce.pl
END:VEVENT
BEGIN:VEVENT
DTSTART;TZID=Europe/Warsaw:20260531T190000
DTEND;TZID=Europe/Warsaw:20260531T210000
DTSTAMP:20260420T153651
CREATED:20260417T105216Z
LAST-MODIFIED:20260417T105534Z
UID:9095-1780254000-1780261200@sne.siedlce.pl
SUMMARY:Siedlce dla Jezusa
DESCRIPTION:
URL:https://sne.siedlce.pl/kalendarz/siedlce-dla-jezusa-5/
CATEGORIES:Wieczór Chwały
ATTACH;FMTTYPE=image/jpeg:https://sne.siedlce.pl/wp-content/uploads/2026/04/IMG_24131-1.jpg
END:VEVENT
BEGIN:VEVENT
DTSTART;TZID=Europe/Warsaw:20261009T173000
DTEND;TZID=Europe/Warsaw:20261011T140000
DTSTAMP:20260420T153651
CREATED:20260417T135522Z
LAST-MODIFIED:20260417T135522Z
UID:9100-1791567000-1791727200@sne.siedlce.pl
SUMMARY:Kurs Nowe Życie
DESCRIPTION:
URL:https://sne.siedlce.pl/kalendarz/kurs-nowe-zycie-35/
LOCATION:Bursa św. Stanisława Kostki\, ul. Świrskiego 56\, Siedlce\, Mazowieckie\, 08-110\, Polska
CATEGORIES:Kurs
ATTACH;FMTTYPE=image/png:https://sne.siedlce.pl/wp-content/uploads/2026/04/nowe-zycie-e1776434092160.png
END:VEVENT
BEGIN:VEVENT
DTSTART;TZID=Europe/Warsaw:20261017T090000
DTEND;TZID=Europe/Warsaw:20261017T140000
DTSTAMP:20260420T153651
CREATED:20260419T181416Z
LAST-MODIFIED:20260419T181416Z
UID:9104-1792227600-1792245600@sne.siedlce.pl
SUMMARY:Skupienie kandydatów przed bierzmowaniem
DESCRIPTION:
URL:https://sne.siedlce.pl/kalendarz/skupienie-kandydatow-przed-bierzmowaniem/
LOCATION:Aula pod kosciołem św. Jóżefa w Siedlcach\, ul. Sokołowska 124\, Siedlce\, 08-110\, Poland
CATEGORIES:Bierzmowanie dorosłych,Skupienia,Spotkania
END:VEVENT
BEGIN:VEVENT
DTSTART;TZID=Europe/Warsaw:20261128T100000
DTEND;TZID=Europe/Warsaw:20261128T150000
DTSTAMP:20260420T153651
CREATED:20260419T183900Z
LAST-MODIFIED:20260419T183900Z
UID:9112-1795860000-1795878000@sne.siedlce.pl
SUMMARY:Świętowanie rejonu SESA (WSD Siedlce)
DESCRIPTION:
URL:https://sne.siedlce.pl/kalendarz/swietowanie-rejonu-sesa-wsd-siedlce/
LOCATION:Wyższe Seminarium Duchowne Diec. Siedleckiej\, Seminaryjna 26\, Nowe Opole\, 08-103\, Poland
CATEGORIES:Spotkania
ATTACH;FMTTYPE=image/jpeg:https://sne.siedlce.pl/wp-content/uploads/2024/10/20240922_134353-scaled.jpg
END:VEVENT
END:VCALENDAR